BEGIN:VCALENDAR
VERSION:2.0
PRODID:-//Four Fathers Brewing - ECPv6.15.20//NONSGML v1.0//EN
CALSCALE:GREGORIAN
METHOD:PUBLISH
X-WR-CALNAME:Four Fathers Brewing
X-ORIGINAL-URL:https://fourfathersbrewing.ca
X-WR-CALDESC:Events for Four Fathers Brewing
REFRESH-INTERVAL;VALUE=DURATION:PT1H
X-Robots-Tag:noindex
X-PUBLISHED-TTL:PT1H
BEGIN:VTIMEZONE
TZID:America/Toronto
BEGIN:DAYLIGHT
TZOFFSETFROM:-0500
TZOFFSETTO:-0400
TZNAME:EDT
DTSTART:20250309T070000
END:DAYLIGHT
BEGIN:STANDARD
TZOFFSETFROM:-0400
TZOFFSETTO:-0500
TZNAME:EST
DTSTART:20251102T060000
END:STANDARD
BEGIN:DAYLIGHT
TZOFFSETFROM:-0500
TZOFFSETTO:-0400
TZNAME:EDT
DTSTART:20260308T070000
END:DAYLIGHT
BEGIN:STANDARD
TZOFFSETFROM:-0400
TZOFFSETTO:-0500
TZNAME:EST
DTSTART:20261101T060000
END:STANDARD
BEGIN:DAYLIGHT
TZOFFSETFROM:-0500
TZOFFSETTO:-0400
TZNAME:EDT
DTSTART:20270314T070000
END:DAYLIGHT
BEGIN:STANDARD
TZOFFSETFROM:-0400
TZOFFSETTO:-0500
TZNAME:EST
DTSTART:20271107T060000
END:STANDARD
END:VTIMEZONE
BEGIN:VEVENT
DTSTART;TZID=America/Toronto:20260426T120000
DTEND;TZID=America/Toronto:20260426T170000
DTSTAMP:20260424T102757
CREATED:20260302T144140Z
LAST-MODIFIED:20260302T144140Z
UID:69424-1777204800-1777222800@fourfathersbrewing.ca
SUMMARY:Spring Vendor Market at The IV Loft at Four Fathers Brewing Co
DESCRIPTION:Spend the afternoon discovering incredible local vendors\, all while enjoying seasonal cocktails and craft beer. \n\n\n\n\nJoin us on Sunday\, April 26th from 12 PM to 5 PM at The IV Loft at Four Fathers Brewing Co. for an afternoon of local shopping\, spring drinks\, and community vibes. \nOur Spring Vendor Market features a curated mix of talented local vendors and small businesses. Expect handmade goods\, artisan treats\, home décor\, jewelry\, self-care products\, and plenty of unique finds perfect for gifting. It’s the ideal spot to pick up something special\, including early Mother’s Day gifts 🌸 \nThe bar will be open all afternoon\, featuring seasonal spring cocktails and fresh craft beer\, so you can sip while you shop. \n\n💐 FREE entry\n🎁 First 25 guests through the doors receive a FREE vendor gift bag\n🎟 Every guest can enter our raffle to win 4 tickets to a Four Fathers Brewery Tour and Tasting\n\nGrab your crew and join us for an afternoon of great vendors and good company.
URL:https://fourfathersbrewing.ca/event/spring-vendor-market-at-the-iv-loft-at-four-fathers-brewing-co/
END:VEVENT
BEGIN:VEVENT
DTSTART;TZID=America/Toronto:20260428T190000
DTEND;TZID=America/Toronto:20260428T210000
DTSTAMP:20260424T102757
CREATED:20260401T133637Z
LAST-MODIFIED:20260401T133637Z
UID:69922-1777402800-1777410000@fourfathersbrewing.ca
SUMMARY:General Knowledge Trivia at Four Fathers
DESCRIPTION:A mix of random questions covering a little bit of everything. \n\n\n\n\nThis is where anything goes. From pop culture and history to science and random facts\, you’ll need a bit of everything to keep up. It’s quick\, unpredictable\, and perfect for teams who know a little about a lot. \nCome hungry\, grab dinner and drinks\, and make a night of it while you play! \n🧠 Free to play \n🏆 Prizes for the top trivia team \n🍺 Award-winning beer and hospitality \nReserve your table here through Eventbrite\, on NowBookIt\, or by calling us at (519) 658-4434. \nSee full menu
URL:https://fourfathersbrewing.ca/event/general-knowledge-trivia-at-four-fathers/
LOCATION:Four Fathers Brewing
END:VEVENT
END:VCALENDAR